BEGIN:VCALENDAR
VERSION:2.0
PRODID:-//KUD Vesel teater - ECPv6.15.12.2//NONSGML v1.0//EN
CALSCALE:GREGORIAN
METHOD:PUBLISH
X-ORIGINAL-URL:https://veselteater.si
X-WR-CALDESC:Dogodki za KUD Vesel teater
REFRESH-INTERVAL;VALUE=DURATION:PT1H
X-Robots-Tag:noindex
X-PUBLISHED-TTL:PT1H
BEGIN:VTIMEZONE
TZID:UTC
BEGIN:STANDARD
TZOFFSETFROM:+0000
TZOFFSETTO:+0000
TZNAME:UTC
DTSTART:19990101T000000
END:STANDARD
END:VTIMEZONE
BEGIN:VEVENT
DTSTART;TZID=UTC:20100218T000000
DTEND;TZID=UTC:20100218T235900
DTSTAMP:20260422T120752
CREATED:20251105T114336Z
LAST-MODIFIED:20260103T083331Z
UID:2847-1266451200-1266537540@veselteater.si
SUMMARY:Kako je lev Leon spet postal kralj
DESCRIPTION:avtor:\nMarcus Pfister\n\n\nuprizorjeno:\n18. 2. 2010\, TTT\, Dolenjske Toplice\, KKC\n\n\nponovitve:\nTerme Krka Dolenjske Toplice; Sun Roller Kanižarica; Planet Tuš Novo mesto\n\n\nnastopajoči:\nSuzana Bradač\, Denise Ćatović\, Ajda Hudoklin\, Sara Povše\, Nadja Pršina\, Zdravka Sintič\, Darko Šenica\, Saša Šenica\, Helena Umek\n\n\nsodelujoči:\nSandi Bradač\, Leon Špelič (izdelava lutk)\n\n\n\n \n\n\n\n\n\n\n\n\n\n\n\n        \n            \n                                                    \n                                \n\n                                        \n                        B05_01B05_02B05_03B05_04B05_05
URL:https://veselteater.si/dogodek/kako-je-lev-leon-spet-postal-kralj/
LOCATION:KKC Dolenjske Toplice\, Sokolski trg 4\, Dolenjske Toplice\, IL\, 8350
CATEGORIES:Predstave za otroke
ATTACH;FMTTYPE=image/jpeg:https://veselteater.si/wp-content/uploads/2025/11/B05_01.jpg
ORGANIZER;CN="Vesel Teater":MAILTO:kud@veselteater.si
END:VEVENT
BEGIN:VEVENT
DTSTART;TZID=UTC:20100212T000000
DTEND;TZID=UTC:20100212T235900
DTSTAMP:20260422T120752
CREATED:20251105T105057Z
LAST-MODIFIED:20260103T090748Z
UID:2800-1265932800-1266019140@veselteater.si
SUMMARY:Gospa poslančeva
DESCRIPTION:avtor:\nTone Partljič\n\n\nrežija:\nAndrej Hudoklin\, pomoč pri režiji: Rok Biček\n\n\nvsebina:\nPartljičeva komedija postavlja v ospredje ambiciozno poslančevo ženo\, ki kljub porazu moža na volitvah ne obupa. Pripravljena je narediti vse\, samo da bo gospa poslančeva! V boju za oblast so seveda dovoljena vsa sredstva. Drzne načrte gospe poslančeve zaplete romanca hčerke z ministrovim sinom\, etnično nečisti kriminalec\, udbovska preganjavica\, predvsem pa dejstvo\, da so politiki hitro pokvarljiva roba.\n\n\n \n \n \n \n\n\nnastopajoči:\nŽiva Breskvar Piškur\, gospa poslančeva\n–\nVanja Lukšič\n\n\nIrena\, hči iz prvega zakona\n–\nNataša Bradač\n\n\nAndrej Piškur\, drugi mož\n–\nSandi Bradač\n\n\nPiškur starejši\, Andrejev oče\n–\nDarko Šenica\n\n\nSlivar\, minister\n–\nIgor Mavsar\n\n\nSlivarjeva\, gospa ministrica\n–\nJasna Povše\n\n\nRok Slivar\, Irenin fant\n–\nRok Šarlohar\n\n\nZofija\, psihiatrinja\n–\nIrena Pečjak\n\n\nbolničarka\n–\nIrena Šenica\n\n\nGoran Pavlić\, izsiljevalec\n–\nLeon Špelič\n\n\npoštar\n–\nDušan Luthar\n\n\nbolničarka\n–\nRozi Pečjak\n\n\n \n \n \n \n\n\nsodelujoči:\nAjda Hudoklin\, Sara Povše (šepetalki)\, Miha Arnuš\, Brane Aš\, Alen Ćatović\, Andrej Gotenc (tehnika)\n\n\npremiera:\n21. 2. 2010\, Dolenjske Toplice\, KKC\n\n\nponovitve:\nDolenjske Toplice (2x); Mirna; Lož; Otočec; Črnomelj; Deskle; Predoslje; Šentjernej; Zalog; Pišece; Gabrje; Leskovec pri Krškem\n\n\n\n \n\n\n\n\n\n\n\n\n\n\n\n        \n            \n                                                    \n                                \n\n                                        \n                        A04_01A04_02A04_03A04_04A04_05
URL:https://veselteater.si/dogodek/gospa-poslanceva/
LOCATION:KKC Dolenjske Toplice\, Sokolski trg 4\, Dolenjske Toplice\, IL\, 8350
CATEGORIES:Predstave za odrasle
ATTACH;FMTTYPE=image/jpeg:https://veselteater.si/wp-content/uploads/2025/11/A04_01.jpg
ORGANIZER;CN="Vesel Teater":MAILTO:kud@veselteater.si
END:VEVENT
BEGIN:VEVENT
DTSTART;TZID=UTC:20100206T000000
DTEND;TZID=UTC:20100206T235900
DTSTAMP:20260422T120752
CREATED:20251110T152953Z
LAST-MODIFIED:20251230T173258Z
UID:3132-1265414400-1265500740@veselteater.si
SUMMARY:Penzionistična
DESCRIPTION:vsebina:\nZabaven dialog dveh dementnih penzionistov o lokalnih problemih na klopi v parku.\n\n\nuprizorjeno:\n6. 2. 2010\, kulturni praznik\, Dolenjske Toplice\, KKC\n\n\nscenarij in izvedba:\nDušan Luthar\, Leon Špelič\n\n\n\n \n\n\n\n\n\n\n\n\n\n\n\n        \n            \n                                                    \n                                \n\n                                        \n                        C09_01
URL:https://veselteater.si/dogodek/penzionisticna/
LOCATION:KKC Dolenjske Toplice\, Sokolski trg 4\, Dolenjske Toplice\, IL\, 8350
CATEGORIES:Skeči
ATTACH;FMTTYPE=image/jpeg:https://veselteater.si/wp-content/uploads/2025/11/C09_01.jpg
ORGANIZER;CN="Vesel Teater":MAILTO:kud@veselteater.si
END:VEVENT
BEGIN:VEVENT
DTSTART;TZID=UTC:20100101T000000
DTEND;TZID=UTC:20100101T235900
DTSTAMP:20260422T120752
CREATED:20251110T152833Z
LAST-MODIFIED:20251230T173127Z
UID:3130-1262304000-1262390340@veselteater.si
SUMMARY:V čakalnici zobne ambulante
DESCRIPTION:vsebina:\nO tem\, kakšne muke in strahove preživljajo pacienti\, preden se odprejo vrata zobne ambulante\, se vam še sanja ne.\n\n\nuprizorjeno:\n2010\, seminar zdravstvenih tehnikov\, Otočec\n\n\nscenarij in izvedba:\nSandi Bradač\, Irena Pečjak\, Rozi Volf Pečjak\, Špela Poreber\, Jasna Povše\, Sara Povše\, Katarina Rudman\, Rok Šarlohar\, Ajda Šenica\, Irena Šenica\, Darko Šenica\, Leon Špelič
URL:https://veselteater.si/dogodek/v-cakalnici-zobne-ambulante/
LOCATION:KKC Dolenjske Toplice\, Sokolski trg 4\, Dolenjske Toplice\, IL\, 8350
CATEGORIES:Skeči
ATTACH;FMTTYPE=image/jpeg:https://veselteater.si/wp-content/uploads/2025/11/genericna-fotografija-placeholder.jpg
ORGANIZER;CN="Vesel Teater":MAILTO:kud@veselteater.si
END:VEVENT
BEGIN:VEVENT
DTSTART;TZID=UTC:20090629T000000
DTEND;TZID=UTC:20090629T235900
DTSTAMP:20260422T120752
CREATED:20251110T153450Z
LAST-MODIFIED:20251230T172704Z
UID:3138-1246233600-1246319940@veselteater.si
SUMMARY:Roditeljski sestanek
DESCRIPTION:vsebina:\nKakršni starši\, takšni otroci – učenci\, zato so roditeljski sestanki lahko tudi prava šola za starše.\n\n\nuprizorjeno:\n29. 6. 2009\, seminar pedagoških delavcev\, Dolenjske Toplice\, Terme Krka\n\n\nscenarij in izvedba:\nIgor Mavsar\, Rozi Volf Pečjak\, Jasna Povše\, Sara Povše\, Darko Šenica\, Irena Šenica\, Leon Špelič
URL:https://veselteater.si/dogodek/roditeljski-sestanek/
LOCATION:KKC Dolenjske Toplice\, Sokolski trg 4\, Dolenjske Toplice\, IL\, 8350
CATEGORIES:Skeči
ATTACH;FMTTYPE=image/jpeg:https://veselteater.si/wp-content/uploads/2025/11/genericna-fotografija-placeholder.jpg
ORGANIZER;CN="Vesel Teater":MAILTO:kud@veselteater.si
END:VEVENT
BEGIN:VEVENT
DTSTART;TZID=UTC:20090629T000000
DTEND;TZID=UTC:20090629T235900
DTSTAMP:20260422T120752
CREATED:20251110T153325Z
LAST-MODIFIED:20251230T173017Z
UID:3136-1246233600-1246319940@veselteater.si
SUMMARY:Izredni sestanek
DESCRIPTION:vsebina:\nKo so v šoli večji problem pametni starši kot navihani učenci\, lahko zaplet rešijo le čistilke.\n\n\nuprizorjeno:\n29. 6. 2009 in 17. 7. 2010\, Dolenjske Toplice\, parkirišče pri Balnei\n\n\nscenarij in izvedba:\nSandi Bradač\, Ajda Hudoklin\, Vanja Lukšič\, Dušan Luthar\, Igor Mavsar\, Špela Novak\, Irena Pečjak\, Matej Pečjak\, Rozi Volf Pečjak\, Jasna Povše\, Sara Povše\, Katarina Rudman\, Rok Šarlohar\, Ajda Šenica\, Darko Šenica\, Irena Šenica\, Leon Špelič\n\n\n\n \n\n\n\n\n\n\n\n\n\n\n\n        \n            \n                                                    \n                                \n\n                                        \n                        C07_01C07_02C07_03
URL:https://veselteater.si/dogodek/izredni-sestanek/
LOCATION:KKC Dolenjske Toplice\, Sokolski trg 4\, Dolenjske Toplice\, IL\, 8350
CATEGORIES:Skeči
ATTACH;FMTTYPE=image/jpeg:https://veselteater.si/wp-content/uploads/2025/11/C07_01.jpg
ORGANIZER;CN="Vesel Teater":MAILTO:kud@veselteater.si
END:VEVENT
BEGIN:VEVENT
DTSTART;TZID=UTC:20090327T000000
DTEND;TZID=UTC:20090327T235900
DTSTAMP:20260422T120752
CREATED:20251105T105414Z
LAST-MODIFIED:20260103T090702Z
UID:2802-1238112000-1238198340@veselteater.si
SUMMARY:Niti tat ne more pošteno krasti
DESCRIPTION:avtor:\nDario Fo\n\n\nrežija:\nAndrej Hudoklin\n\n\nvsebina:\nV gosposko stanovanje se prikrade tat. Pri tatinskem podvigu ga najprej zmoti telefonski klic skrbne žene\, nato pa še obisk lastnika z ljubico. Ne preostane mu drugega\, kot da se skrije v ohišje starinske ure. Izdajo ga udarci nihala in tako se začne komedija zmešnjav in nesporazumov\, ki jo zapletejo telefonski klici\, ljubosumnost\, nepričakovan prihod lastnice\, njenega ljubimca in še koga … Na koncu nas preseneti spoznanje\, da je tat navsezadnje lahko celo bolj pošten kot pa bogata in razvratna gospoda.\n\n\n \n \n \n \n\n\nnastopajoči:\ntat\n–\nLeon Špelič\n\n\ntatova žena\n–\nNataša Bradač\n\n\nmož\n–\nSandi Bradač\n\n\nžena\n–\nRozi Pečjak\n\n\nljubica\n–\nVanja Lukšič\n\n\nljubimec\n–\nJasna Povše\n\n\nljubimec\n–\nDarko Šenica\n\n\ndrugi tat\n–\nAjda Hudoklin\n\n\n \n \n \n \n\n\nsodelujoči:\nAjda Hudoklin\, Sara Povše\, Rozi Pečjak (šepetalke)\, Miha Arnuš\, Brane Aš (tehnika)\n\n\npremiera:\n27. 3. 2009\, Dolenjske Toplice\, KKC\n\n\nponovitvi:\nDolenjske Toplice; Leskovec pri Krškem\n\n\n\n \n\n\n\n\n\n\n\n\n\n\n\n        \n            \n                                                    \n                                \n\n                                        \n                        A03_01A03_02
URL:https://veselteater.si/dogodek/niti-tat-ne-more-posteno-krasti/
LOCATION:KKC Dolenjske Toplice\, Sokolski trg 4\, Dolenjske Toplice\, IL\, 8350
CATEGORIES:Predstave za odrasle
ATTACH;FMTTYPE=image/jpeg:https://veselteater.si/wp-content/uploads/2025/11/A03_01.jpg
ORGANIZER;CN="Vesel Teater":MAILTO:kud@veselteater.si
END:VEVENT
BEGIN:VEVENT
DTSTART;TZID=UTC:20090206T000000
DTEND;TZID=UTC:20090206T235900
DTSTAMP:20260422T120752
CREATED:20251110T153140Z
LAST-MODIFIED:20251230T172543Z
UID:3134-1233878400-1233964740@veselteater.si
SUMMARY:Skodelica kave
DESCRIPTION:vsebina:\nUprizoritev Cankarjeve Skodelice kave zmoti transvestit Salome\, ki dogajanje na odru postavi na glavo.\n\n\nuprizorjeno:\n6. 2. 2009\, kulturni praznik\, Dolenjske Toplice\, KKC\n\n\nscenarij in izvedba:\nMatej Pečjak\, Leon Špelič\, Robert Zupančič
URL:https://veselteater.si/dogodek/skodelica-kave/
LOCATION:KKC Dolenjske Toplice\, Sokolski trg 4\, Dolenjske Toplice\, IL\, 8350
CATEGORIES:Skeči
ATTACH;FMTTYPE=image/jpeg:https://veselteater.si/wp-content/uploads/2025/11/genericna-fotografija-placeholder.jpg
ORGANIZER;CN="Vesel Teater":MAILTO:kud@veselteater.si
END:VEVENT
BEGIN:VEVENT
DTSTART;TZID=UTC:20080719T000000
DTEND;TZID=UTC:20080719T235900
DTSTAMP:20260422T120752
CREATED:20251110T153612Z
LAST-MODIFIED:20251230T172428Z
UID:3140-1216425600-1216511940@veselteater.si
SUMMARY:Vrtina
DESCRIPTION:vsebina:\nKlasična topliška zgodba o medsosedskih odnosih in »fovšiji«\, ki začne kipeti\, ko je treba locirati vrtino za toplo vodo.\n\n\nuprizorjeno:\n19. 7. 2008\, občinski praznik\, Dolenjske Toplice\, parkirišče pri Balnei in 6. 9. 2008 za Krajevno organizacijo Rdečega križa\, Dolenjske Toplice\n\n\nscenarij in izvedba:\nBrane Aš\, Nataša Bradač\, Sandi Bradač\, Rozi Volf Pečjak\, Leon Špelič\, Darko Šenica\, Robert Zupančič\n\n\n\n \n\n\n\n\n\n\n\n\n\n\n\n        \n            \n                                                    \n                                \n\n                                        \n                        C05_01
URL:https://veselteater.si/dogodek/vrtina/
LOCATION:KKC Dolenjske Toplice\, Sokolski trg 4\, Dolenjske Toplice\, IL\, 8350
CATEGORIES:Skeči
ATTACH;FMTTYPE=image/jpeg:https://veselteater.si/wp-content/uploads/2025/11/C05_01.jpg
ORGANIZER;CN="Vesel Teater":MAILTO:kud@veselteater.si
END:VEVENT
BEGIN:VEVENT
DTSTART;TZID=UTC:20060721T000000
DTEND;TZID=UTC:20060721T235900
DTSTAMP:20260422T120752
CREATED:20251110T153725Z
LAST-MODIFIED:20251230T165207Z
UID:3142-1153440000-1153526340@veselteater.si
SUMMARY:Gostilna
DESCRIPTION:vsebina:\nV gostilni si vedno na tekočem »kaj dogaja«\, saj se ob šanku zvrstijo vsi\, ki kaj vedo: snažilka Mici\, občinski Janez\, gostje od blizu in daleč … in nenazadnje še inšpektor.\n\n\nuprizorjeno:\n21. 7. 2006\, občinski praznik\, Dolenjske Toplice\, parkirišče pri Balnei\n\n\nscenarij in izvedba:\nMiha Arnuš\, Barbara Barbič\, Nataša Bradač\, Sandi Bradač\, Vanja Lukšič\, Darko Pavlin\, Matej Pečjak\, Rozi Volf Pečjak\, Darko Šenica\, Robert Zupančič
URL:https://veselteater.si/dogodek/gostilna/
LOCATION:KKC Dolenjske Toplice\, Sokolski trg 4\, Dolenjske Toplice\, IL\, 8350
CATEGORIES:Skeči
ATTACH;FMTTYPE=image/jpeg:https://veselteater.si/wp-content/uploads/2025/11/genericna-fotografija-placeholder.jpg
ORGANIZER;CN="Vesel Teater":MAILTO:kud@veselteater.si
END:VEVENT
BEGIN:VEVENT
DTSTART;TZID=UTC:20060616T000000
DTEND;TZID=UTC:20060616T235900
DTSTAMP:20260422T120752
CREATED:20251105T105658Z
LAST-MODIFIED:20260103T090640Z
UID:2804-1150416000-1150502340@veselteater.si
SUMMARY:Kriza pri Novakovih – Škandal pri Barlettovih
DESCRIPTION:avtor:\nAvery Hopwood\n\n\nrežija:\nDarko Pavlin\n\n\nvsebina:\nKateri zakonski par se še ni soočil s krizo? Nobena izjema nista niti Valerija in Branko: ona si želi bolj dinamično in vznemirljivo življenje\, njemu pa ustrezata ustaljen ritem in umirjenost domačega okolja. Medtem ko se Valerija spusti v ljubezensko afero z nekdanjim zaročencem\, Branka zapeljuje soseda\, ki se želi maščevati nezvestemu možu. Igra je polna zapletov\, v kateri ne manjka komičnih situacij.\n\n\n \n \n \n \n\n\nnastopajoči:\nBranko\n–\nSandi Bradač\n\n\nValerija\n–\nBarbara Barbič\n\n\nAnka\n–\nVanja Lukšič\n\n\nJani\n–\nMatej Pečjak\n\n\nFrenk\n–\nTomaž Kirm / Robert Zupančič\n\n\nMetka\n–\nNataša Bradač\n\n\nZoran\n–\nDarko Pavlin\n\n\nPeter\n–\nDarko Šenica\n\n\n \n \n \n \n\n\nsodelujoči:\nRozi Pečjak (šepetalka)\, Miha Arnuš (scenografija in tehnika)\n\n\npremiera:\n16. 06. 2006\, Podturn\n\n\nponovitve:\nOtočec; Studenec pri Raki; Leskovec pri Krškem; Sevnica; Mirna; Ljubljana Zalog; Šenčur; Gabrje; Šmarjeta; Trebnje; Novo mesto; Semič; Dole pri Litiji; Straža; Višnja Gora; Dolenjske Toplice; Kanal ob Soči; Šentjernej; Sinji Vrh ob Kolpi\n\n\n\n \n\n\n\n\n\n\n\n\n\n\n\n        \n            \n                                                    \n                                \n\n                                        \n                        A02_01A02_02A02_03A02_04A02_05
URL:https://veselteater.si/dogodek/kriza-pri-novakovih-skandal-pri-barlettovih/
LOCATION:KKC Dolenjske Toplice\, Sokolski trg 4\, Dolenjske Toplice\, IL\, 8350
CATEGORIES:Predstave za odrasle
ATTACH;FMTTYPE=image/jpeg:https://veselteater.si/wp-content/uploads/2025/11/A02_01.jpg
ORGANIZER;CN="Vesel Teater":MAILTO:kud@veselteater.si
END:VEVENT
BEGIN:VEVENT
DTSTART;TZID=UTC:20051228T000000
DTEND;TZID=UTC:20051228T235900
DTSTAMP:20260422T120752
CREATED:20251105T114529Z
LAST-MODIFIED:20260103T083307Z
UID:2849-1135728000-1135814340@veselteater.si
SUMMARY:Sovica Oka
DESCRIPTION:avtorica:\nSvetlana Makarovič\n\n\nuprizorjeno:\n28. 12. 2005\, dedek Mraz\, Dolenjske Toplice\n\n\nponovitvi:\nDolenjske Toplice; Planet Tuš Novo mesto\n\n\nnastopajoči:\nNataša Bradač\, Rosana Dular\, Vanja Lukšič\, Rozi Volf Pečjak\, Matej Pečjak\n\n\nsodelujoči:\nMiha Arnuš (tehnika)\, Nataša Bradač (maska)\n\n\nrežija:\nVanja Lukšič\n\n\n\n \n\n\n\n\n\n\n\n\n\n\n\n        \n            \n                                                    \n                                \n\n                                        \n                        B04_01B04_02B04_03B04_04
URL:https://veselteater.si/dogodek/sovica-oka/
LOCATION:KKC Dolenjske Toplice\, Sokolski trg 4\, Dolenjske Toplice\, IL\, 8350
CATEGORIES:Predstave za otroke
ATTACH;FMTTYPE=image/jpeg:https://veselteater.si/wp-content/uploads/2025/11/B04_01.jpg
ORGANIZER;CN="Vesel Teater":MAILTO:kud@veselteater.si
END:VEVENT
BEGIN:VEVENT
DTSTART;TZID=UTC:20050722T000000
DTEND;TZID=UTC:20050722T235900
DTSTAMP:20260422T120752
CREATED:20251110T153835Z
LAST-MODIFIED:20251230T165308Z
UID:3144-1121990400-1122076740@veselteater.si
SUMMARY:Recepcija
DESCRIPTION:vsebina:\nV hotelski recepciji je vedno zabavno. Čeprav receptor in portir obvladata svoj posel\, se stvari lahko zapletejo ob obisku čudnih gostov.\n\n\nuprizorjeno:\n22. 7. 2005\, občinski praznik\, Dolenjske Toplice\, parkirišče pri Balnei; 22. 10. 2009\, 16. 12. 2009\, 1. 4. 2010\, Terme Krka\, Dolenjske Toplice\n\n\nscenarij in izvedba:\nBarbara Barbič\, Nataša Bradač\, Sandi Bradač\, Vanja Lukšič\, Matej Pečjak\, Rozi Volf Pečjak\, Robert Zupančič (2005); Nataša Bradač\, Sandi Bradač\, Vanja Lukšič\, Dušan Luthar\, Jasna Povše\, Rok Šarlohar\, Darko Šenica\, Irena Šenica\, Leon Špelič (2009/10)\n\n\n\n \n\n\n\n\n\n\n\n\n\n\n\n        \n            \n                                                    \n                                \n\n                                        \n                        C03_01C03_02C03_03C03_04C03_05
URL:https://veselteater.si/dogodek/recepcija/
LOCATION:KKC Dolenjske Toplice\, Sokolski trg 4\, Dolenjske Toplice\, IL\, 8350
CATEGORIES:Skeči
ATTACH;FMTTYPE=image/jpeg:https://veselteater.si/wp-content/uploads/2025/11/C03_01.jpg
ORGANIZER;CN="Vesel Teater":MAILTO:kud@veselteater.si
END:VEVENT
BEGIN:VEVENT
DTSTART;TZID=UTC:20050427T000000
DTEND;TZID=UTC:20050427T235900
DTSTAMP:20260422T120752
CREATED:20251110T153945Z
LAST-MODIFIED:20251230T164847Z
UID:3146-1114560000-1114646340@veselteater.si
SUMMARY:Moj ata\, socialistični kulak
DESCRIPTION:vsebina:\nUprizorjen del igre Toneta Partljiča.\n\n\nuprizorjeno:\n27. 4. 2005\, proslava ob dnevu upora proti okupatorju\, OŠ Dolenjske Toplice\n\n\nizvedba:\nBarbara Barbič\, Rok Biček\, Sandi Bradač\, Vanja Lukšič\, Robert Zupančič
URL:https://veselteater.si/dogodek/moj-ata-socialisticni-kulak/
LOCATION:KKC Dolenjske Toplice\, Sokolski trg 4\, Dolenjske Toplice\, IL\, 8350
CATEGORIES:Skeči
ATTACH;FMTTYPE=image/jpeg:https://veselteater.si/wp-content/uploads/2025/11/genericna-fotografija-placeholder.jpg
ORGANIZER;CN="Vesel Teater":MAILTO:kud@veselteater.si
END:VEVENT
BEGIN:VEVENT
DTSTART;TZID=UTC:20041226T000000
DTEND;TZID=UTC:20041226T235900
DTSTAMP:20260422T120752
CREATED:20251105T114717Z
LAST-MODIFIED:20251230T150619Z
UID:2851-1104019200-1104105540@veselteater.si
SUMMARY:Nerodni strahec
DESCRIPTION:uprizorjeno:\n26. 12. 2004\, dedek Mraz\, Dolenjske Toplice\n\n\nponovitev:\nLjubljana Zalog\n\n\nnastopajoči:\nBarbara Barbič\, Vanja Lukšič\, Matej Pečjak\, Rozi Volf Pečjak\, Robert Zupančič\n\n\nsodelujoči:\nMiha Arnuš (tehnika)\, Nataša Bradač (maska)\n\n\nrežija:\nBarbara Barbič\n\n\n\n \n\n\n\n\n\n\n\n\n\n\n\n        \n            \n                                                    \n                                \n\n                                        \n                        B03_01
URL:https://veselteater.si/dogodek/nerodni-strahec/
LOCATION:KKC Dolenjske Toplice\, Sokolski trg 4\, Dolenjske Toplice\, IL\, 8350
CATEGORIES:Predstave za otroke
ATTACH;FMTTYPE=image/jpeg:https://veselteater.si/wp-content/uploads/2025/11/B03_01.jpg
ORGANIZER;CN="Vesel Teater":MAILTO:kud@veselteater.si
END:VEVENT
BEGIN:VEVENT
DTSTART;TZID=UTC:20030722T000000
DTEND;TZID=UTC:20030722T235900
DTSTAMP:20260422T120752
CREATED:20251110T154058Z
LAST-MODIFIED:20251230T164722Z
UID:3148-1058832000-1058918340@veselteater.si
SUMMARY:Družina na počitnicah
DESCRIPTION:vsebina:\nSo dnevi\, ko gre vse narobe! Če pa gre vse narobe od trenutka\, ko se družina pripelje na počitnice v avtokamp\, to niso več Počitnice\, ampak zabava za gledalce.\n\n\nuprizorjeno:\n22. 7. 2003\, občinski praznik\, Dolenjske Toplice\, parkirišče pri Balnei\n\n\nscenarij in izvedba:\nBine Barbič\, Barbara Barbič\, Sandi Bradač\, Rosana Dular\, Štefan Grmek\, Mojca Lukšič\n\n\n\n \n\n\n\n\n\n\n\n\n\n\n\n        \n            \n                                                    \n                                \n\n                                        \n                        C01_01C01_02
URL:https://veselteater.si/dogodek/druzina-na-pocitnicah/
LOCATION:KKC Dolenjske Toplice\, Sokolski trg 4\, Dolenjske Toplice\, IL\, 8350
CATEGORIES:Skeči
ATTACH;FMTTYPE=image/jpeg:https://veselteater.si/wp-content/uploads/2025/11/C01_01.jpg
ORGANIZER;CN="Vesel Teater":MAILTO:kud@veselteater.si
END:VEVENT
BEGIN:VEVENT
DTSTART;TZID=UTC:20030620T000000
DTEND;TZID=UTC:20030620T235900
DTSTAMP:20260422T120752
CREATED:20251105T105909Z
LAST-MODIFIED:20260103T090532Z
UID:2806-1056067200-1056153540@veselteater.si
SUMMARY:Bosa v parku
DESCRIPTION:avtor:\nNeil Simon\n\n\nrežija:\nBine Barbič\n\n\nvsebina:\nDinamična zgodba mladoporočencev\, ki se po preselitvi v najvišje nadstropje stolpnice začenjata soočati s tegobami vsakdanjosti. Njun zakon je postavljen pred velike preizkušnje s prihodom mame glavne junakinje in čudaškega soseda. Gledalce pa do konca drži v napetosti vprašanje\, če bosta zmogla umiriti napetosti in razlike ter nadaljevati partnersko idilo.\n\n\n \n \n \n \n\n\nnastopajoči:\nMojca Novak\n–\nVanja Lukšič\n\n\nPeter Novak\n–\nRok Biček\n\n\nValerija Brkič\n–\nBarbara Barbič\n\n\nViktor Vilič\n–\nSandi Bradač\n\n\ntelefonski mojster\n–\nZlatan Bajraktarevič\n\n\npoštar\n–\nBine Barbič\n\n\n \n \n \n \n\n\nsodelujoči:\nMojca Lukšič (šepetalka)\, Rosana Dular (rekviziti)\, Miha Arnuš (zvočni efekti)\n\n\npremiera:\n20. 06. 2003\, Podhosta\n\n\nponovitve:\nNovo mesto; Otočec; Dole pri Litiji; Dvor; Črnomelj; Šentrupert; Dobrnič\n\n\n\n \n\n\n\n\n\n\n\n\n\n\n\n        \n            \n                                                    \n                                \n\n                                        \n                        A01_01A01_02A01_03A01_04A01_05
URL:https://veselteater.si/dogodek/bosa-v-parku-neil-simon/
LOCATION:KKC Dolenjske Toplice\, Sokolski trg 4\, Dolenjske Toplice\, IL\, 8350
CATEGORIES:Predstave za odrasle
ATTACH;FMTTYPE=image/jpeg:https://veselteater.si/wp-content/uploads/2025/11/A01_01.jpg
ORGANIZER;CN="Vesel Teater":MAILTO:kud@veselteater.si
END:VEVENT
BEGIN:VEVENT
DTSTART;TZID=UTC:20020417T000000
DTEND;TZID=UTC:20020417T235900
DTSTAMP:20260422T120752
CREATED:20251105T114857Z
LAST-MODIFIED:20260103T083230Z
UID:2853-1019001600-1019087940@veselteater.si
SUMMARY:Pazite se medvedov
DESCRIPTION:avtor:\nAlan MacDonald\n\n\nuprizorjeno:\n17. 4. 2002\, OŠ Dolenjske Toplice\n\n\nponovitve:\nLjubljana Zalog; Straža; Ribnica\n\n\nnastopajoči:\nMiha Arnuš\, Bine Barbič\, Sandi Bradač\, Štefan Grmek\, Mojca Lukšič\, Vanja Lukšič\, Vesna Majes\, Vid Klančičar\, Vlado Roženbergar\n\n\nrežija:\nVesna Majes\n\n\n\n \n\n\n\n\n\n\n\n\n\n\n\n        \n            \n                                                    \n                                \n\n                                        \n                        B02_01
URL:https://veselteater.si/dogodek/pazite-se-medvedov-alan-macdonald/
LOCATION:KKC Dolenjske Toplice\, Sokolski trg 4\, Dolenjske Toplice\, IL\, 8350
CATEGORIES:Predstave za otroke
ATTACH;FMTTYPE=image/jpeg:https://veselteater.si/wp-content/uploads/2025/11/B02_01.jpg
ORGANIZER;CN="Vesel Teater":MAILTO:kud@veselteater.si
END:VEVENT
BEGIN:VEVENT
DTSTART;TZID=UTC:20001201T000000
DTEND;TZID=UTC:20001201T235900
DTSTAMP:20260422T120752
CREATED:20251105T115054Z
LAST-MODIFIED:20260103T083201Z
UID:2855-975628800-975715140@veselteater.si
SUMMARY:Mojca Pokrajculja
DESCRIPTION:avtor:\nVinko Möderndorfer\, priredba koroške ljudske pravljice\n\n\nuprizorjeno:\ndecember 2000\, dedek Mraz\, OŠ Dolenjske Toplice\n\n\nponovitve:\nDolenjske Toplice; Žužemberk; Straža; KC Janeza Trdine Novo mesto; Trebnje; Savlje-Kleče\n\n\nnastopajoči:\nMiha Arnuš\, Bine Barbič\, Sandi Bradač\, Štefan Grmek\, Vid Klančičar\, Danijela Kraševec\, Vanja Lukšič\, Vesna Majes\n\n\nsodelujoči:\nMiha Arnuš (tehnika)\n\n\nrežija:\nVesna Majes\n\n\n\n \n\n\n\n\n\n\n\n\n\n\n\n        \n            \n                                                    \n                                \n\n                                        \n                        B01_01
URL:https://veselteater.si/dogodek/mojca-pokrajculja-2/
LOCATION:KKC Dolenjske Toplice\, Sokolski trg 4\, Dolenjske Toplice\, IL\, 8350
CATEGORIES:Predstave za otroke
ATTACH;FMTTYPE=image/jpeg:https://veselteater.si/wp-content/uploads/2025/11/B01_01.jpg
ORGANIZER;CN="Vesel Teater":MAILTO:kud@veselteater.si
END:VEVENT
END:VCALENDAR